BEGIN:VCALENDAR
VERSION:2.0
PRODID:-//ChamberMaster//Event Calendar 2.0//EN
METHOD:PUBLISH
X-PUBLISHED-TTL:P3D
REFRESH-INTERVAL:P3D
CALSCALE:GREGORIAN
BEGIN:VEVENT
DTSTART:20250328T230000Z
DTEND:20250329T020000Z
X-MICROSOFT-CDO-ALLDAYEVENT:FALSE
SUMMARY:3rd Annual Senior Prom & Gala
DESCRIPTION:Join us for our 3rd annual Senior Prom & Gala on March 28\, 2025! If you've been able to join us the last two years\, you know this an event that you do not want to miss!\n\n \n\nThe event will take place at the Springs Event Venue with live music\, dinner\, auction items\, testimonies\, crowning of our very own King/Queen and more!\n\n \n\nIf you are interested in sponsoring a table\, getting involved with an additional sponsorship\, or learning more about the event\, please contact Jennifer or Kirsti at\n\n(817) 596-4640 ext. 116 or 118
X-ALT-DESC;FMTTYPE=text/html:<div>Join us for our 3rd annual Senior Prom &amp\; Gala on March 28\, 2025! If you&rsquo\;ve been able to join us the last two years\, you know this an event that you do not want to miss!<br />\n&nbsp\;</div>\n\n<div>The event will take place at the Springs Event Venue with live music\, dinner\, auction items\, testimonies\, crowning of our very own King/Queen and more!<br />\n&nbsp\;</div>\n\n<div>If you are interested in sponsoring a table\, getting involved with an additional sponsorship\, or learning more about the event\, please contact Jennifer or Kirsti at<br />\n(817) 596-4640 ext. 116 or 118</div>\n
LOCATION:The Springs Event Venue 454 Thompson Road Weatherford\, TX 76087
UID:e.2477.20112
SEQUENCE:3
DTSTAMP:20260423T102751Z
URL:http://business.parkercountychamber.com/events/details/3rd-annual-senior-prom-gala-20112
END:VEVENT

END:VCALENDAR
