BEGIN:VCALENDAR
VERSION:2.0
PRODID:-//ChamberMaster//Event Calendar 2.0//EN
METHOD:PUBLISH
X-PUBLISHED-TTL:P3D
REFRESH-INTERVAL:P3D
CALSCALE:GREGORIAN
BEGIN:VEVENT
DTSTART:20240601T150000Z
DTEND:20240601T210000Z
X-MICROSOFT-CDO-ALLDAYEVENT:FALSE
SUMMARY:3rd Annual Secret Gardens of Parker County Tour
DESCRIPTION:Enjoy a self-guided journey through 7 unique gardens in Parker County. Discover what lies behind the hedges\, fences\, and gates!\n\n \n\nThe Friends of Chandor Gardens are pleased to present the 3nd Annual Secret Gardens of Parker County Tour of 7 unique gardens in Parker County\, Texas\, which showcases stunning views\, landscaping ideas\, fascinating plants and garden art.\n\n\n\nThis is a self-guided tour\, so you can make your own itinerary and go at your own pace between the hours of 10:00 A.M. and 4:00 P.M. on Saturday\, June 1\, 2024.\n\n\n\nGarden Locations:  TBA closer to the event date\n\n\n\nTickets:\n\n	$12/person - online in advance\n	$15/person - day of the event at 1st garden visited.\n\nNOTE - Those purchasing tickets online will be emailed a brochure with information about each garden and a map closer to the tour date. Ticket holders will be provided a printed copy of the brochure at the 1st garden gate visited the day of the event.\n\n\n\nRegrettably\, due to stairs and uneven terrain\, the gardens on the tour are not fully accessible for those with mobility disabilities.\n\nIn case of cancellation\, due to significant inclement weather\, the tour will be held Saturday\, June 8\, 2024\, instead.\n\n\n\nThank-you so much to the garden owners!\n\nWe are only able to be in the private gardens through the gracious kindness of the owners.\n\n\n\nFor additional information call: 817-550-7762
X-ALT-DESC;FMTTYPE=text/html:<strong>Enjoy a self-guided journey through 7 unique gardens in Parker County. Discover what lies behind the hedges\, fences\, and gates!</strong><br />\n&nbsp\;<br />\nThe Friends of Chandor Gardens are pleased to present the&nbsp\;<strong>3nd Annual Secret Gardens of Parker County Tour&nbsp\;</strong>of 7 unique gardens in Parker County\, Texas\, which showcases stunning views\, landscaping ideas\, fascinating plants and garden art.<br />\n<br />\nThis is a self-guided tour\, so you can make your own itinerary and go at your own pace between the hours of&nbsp\;<strong>10:00 A.M. and 4:00 P.M. on Saturday\, June 1\, 2024.</strong><br />\n<br />\n<strong>Garden Locations:&nbsp\; TBA closer to the event date</strong><br />\n<br />\n<strong>Tickets:</strong>\n<ul>\n	<li>$12/person - online in advance</li>\n	<li>$15/person - day of the event at 1st garden visited.</li>\n</ul>\n<strong>NOTE</strong>&nbsp\;- Those purchasing tickets online will be emailed a brochure with information about each garden and a map closer to the tour date. Ticket holders will be provided a printed copy of the brochure at the 1st garden gate visited the day of the event.<br />\n<br />\nRegrettably\, due to stairs and uneven terrain\, the gardens on the tour are not fully accessible for those with mobility disabilities.<br />\nIn case of cancellation\, due to significant inclement weather\, the tour will be held Saturday\, June 8\, 2024\, instead.<br />\n<br />\n<strong>Thank-you so much to the garden owners!<br />\nWe are only able to be in the private gardens through the gracious kindness of the owners.</strong><br />\n<br />\nFor additional information call: 817-550-7762
LOCATION:Chandor Gardens 711 W Lee Ave Weatherford\, TX 76085 Note: The addressess of the private gardens on the tour will be provided closer to the date of the event
UID:e.2477.19394
SEQUENCE:3
DTSTAMP:20260424T024901Z
URL:http://business.parkercountychamber.com/events/details/3rd-annual-secret-gardens-of-parker-county-tour-19394
END:VEVENT

END:VCALENDAR
