BEGIN:VCALENDAR
VERSION:2.0
PRODID:-//ChamberMaster//Event Calendar 2.0//EN
METHOD:PUBLISH
X-PUBLISHED-TTL:P3D
REFRESH-INTERVAL:P3D
CALSCALE:GREGORIAN
BEGIN:VEVENT
DTSTART:20240511T190000Z
DTEND:20240511T211500Z
X-MICROSOFT-CDO-ALLDAYEVENT:FALSE
SUMMARY:3rd Annual Hockey Game
DESCRIPTION:If your looking for a FREE FAMILY event\, BCV has your covered. We are hosting our 3rd Annual Hockey Game on May 11th. Come out and witness two veteran teams battle it out on the rink. Enjoy refreshments\, balloon artist\, games\, free skate\, raffle prizes and more. Hope to see you all there!
X-ALT-DESC;FMTTYPE=text/html:<span style="color:rgb(5\, 5\, 5)\; font-family:segoe ui historic\,segoe ui\,helvetica\,arial\,sans-serif\; font-size:15px">If your looking for a FREE FAMILY event\, BCV has your covered. We are hosting our 3rd Annual Hockey Game on May 11th. Come out and witness two veteran teams battle it out on the rink. Enjoy refreshments\, balloon artist\, games\, free skate\, raffle prizes and more. Hope to see you all there!</span>
LOCATION:Children's Health StarCenter Euless 1400 S Pipeline Rd Euless\, TX 76040
UID:e.2477.19399
SEQUENCE:3
DTSTAMP:20260424T040836Z
URL:http://business.parkercountychamber.com/events/details/3rd-annual-hockey-game-19399
END:VEVENT

END:VCALENDAR
