BEGIN:VCALENDAR
VERSION:2.0
PRODID:-//ChamberMaster//Event Calendar 2.0//EN
METHOD:PUBLISH
X-PUBLISHED-TTL:P3D
REFRESH-INTERVAL:P3D
CALSCALE:GREGORIAN
BEGIN:VEVENT
DTSTART:20231111T150000Z
DTEND:20231111T163000Z
X-MICROSOFT-CDO-ALLDAYEVENT:FALSE
SUMMARY:30th Annual Coyote Chase Race 5K and 1-mile run
DESCRIPTION:
X-ALT-DESC;FMTTYPE=text/html:
LOCATION:Weatherford College Memorial Plaza
UID:e.2477.18440
SEQUENCE:3
DTSTAMP:20260424T125358Z
URL:http://business.parkercountychamber.com/events/details/30th-annual-coyote-chase-race-5k-and-1-mile-run-18440
END:VEVENT

END:VCALENDAR
