BEGIN:VCALENDAR
VERSION:2.0
PRODID:-//ChamberMaster//Event Calendar 2.0//EN
METHOD:PUBLISH
X-PUBLISHED-TTL:P3D
REFRESH-INTERVAL:P3D
CALSCALE:GREGORIAN
BEGIN:VEVENT
DTSTART:20240322T230000Z
DTEND:20240323T020000Z
X-MICROSOFT-CDO-ALLDAYEVENT:FALSE
SUMMARY:2nd Annual Senior Prom & Gala
DESCRIPTION:This is a community sponsored event\, but of course we wanted to involve our seniors.\n\n \n\n\n\n? Table sponsorships available\n\n- Each table sponsor will host 2 seniors\n\n \n\n? Event sponsorships available\n\n- Smaller tier amounts to sponsor at the event\n\n \n\n? A limited amount of individual tickets are available\n\n \n\n\n\nThe event will consist of dinner\, live entertainment\, raffle items\, and opportunities throughout the evening to learn all of the exciting things our organization is doing.\n\n \n\n\n\nIf you are interested in sponsoring a table\, event item\, purchasing a ticket\, or donating a raffle prize\, please contact Kirsti or Jennifer at (817) 596-4640.
X-ALT-DESC;FMTTYPE=text/html:<div>\n<div><span style="font-size:14px">This is a community sponsored event\, but of course we wanted to involve our seniors.</span><br>\n&nbsp\;</div>\n</div>\n\n<div>\n<div><span style="font-size:14px">? Table sponsorships available</span><br>\n<span style="font-size:14px">-&nbsp\;</span><span style="font-size:14px">Each table sponsor will host 2 seniors</span><br>\n&nbsp\;</div>\n\n<div><span style="font-size:14px">? Event sponsorships available</span><br>\n<span style="font-size:14px">- Smaller tier amounts to sponsor at the event</span><br>\n&nbsp\;</div>\n\n<div><span style="font-size:14px">? A limited amount of individual tickets are available</span><br>\n&nbsp\;</div>\n</div>\n\n<div>\n<div><span style="font-size:14px">The event will consist of dinner\, live entertainment\, raffle items\, and opportunities throughout the evening to learn all of the exciting things our organization is doing.</span><br>\n&nbsp\;</div>\n</div>\n\n<div>\n<div><span style="font-size:14px">If you are interested in sponsoring a table\, event item\, purchasing a ticket\, or donating a raffle prize\, please contact Kirsti or Jennifer at (817) 596-4640.</span></div>\n</div>\n
LOCATION:The Springs Event Venue 454 Thompson Rd\, Weatherford\, TX 76087
UID:e.2477.19212
SEQUENCE:3
DTSTAMP:20260424T070858Z
URL:http://business.parkercountychamber.com/events/details/2nd-annual-senior-prom-gala-19212
END:VEVENT

END:VCALENDAR
