BEGIN:VCALENDAR
VERSION:2.0
PRODID:-//ChamberMaster//Event Calendar 2.0//EN
METHOD:PUBLISH
X-PUBLISHED-TTL:P3D
REFRESH-INTERVAL:P3D
CALSCALE:GREGORIAN
BEGIN:VEVENT
DTSTART;VALUE=DATE:20260106
DTEND;VALUE=DATE:20260401
TRANSP:TRANSPARENT
X-MICROSOFT-CDO-ALLDAYEVENT:TRUE
SUMMARY:2026-2027 Relocation & Area Guide ad opportunity - DEADLINE MARCH 31\, 2026
DESCRIPTION:The Parker County Chamber of Commerce is excited to begin advertising sales for our Annual Relocation & Business Guide one of our most widely used and long-lasting publications.\n\nThis guide is a trusted resource for:\n\n          New residents relocating to Parker County\n\n          Business prospects exploring our community\n\n          Local leaders\, employers\, and visitors\n\nDistributed both in print and digitally\, the guide highlights the businesses\, services\, and organizations that make Parker County thrive. Advertising in the guide is a powerful way to increase your visibility\, strengthen brand recognition\, and position your business in front of a highly targeted audience throughout the year.\n\nWe offer a variety of ad sizes and options to fit every budget\, giving your business year-round exposure in a publication that people keep and reference.\n\nSpace is limited\, and ads are reserved on a first-come\, first-served basis. We encourage you to secure your spot early and take advantage of this opportunity to showcase your business.\n\nTo reserve your ad\, please contact Lisa at 817-441-7844 x 3.\n\nThank you for supporting the Chamber and for being an essential part of Parker County's business community.\n\nIf you are interested in placing an ad CLICK HERE\n\n\n\nCurrent Advertisers\n\n	\n		\n	\n	\n		\n			3C WEALTH MANAGEMENT\, LEON A. HENRY\n		\n		\n			ACDC PRINTING BANNERS\, SIGNS & DESIGNS\n		\n		\n			ALEDO CHILDREN'S ADVOCATS\n		\n		\n			ALEDO CHURCH OF CHRIST\n		\n		\n			ALPHA CARE WELLNESS CENTER\n		\n		\n			ANDREW DECKER LAW\, PLLC\n		\n		\n			ANNETTA UNITED METHODIST CHURCH\n		\n		\n			ARROWPOINT LASER\n		\n		\n			BRAZOS WINDOW & DOOR\, LLC\n		\n		\n			BRETTCO ROOFING II\, LLC\n		\n		\n			CALIBER HOMES TX\n		\n		\n			CASSITY JONES BUILDING MATERIALS\n		\n		\n			CB AIR CONDITIONING AND HEATING\n		\n		\n			CHASE BANK (J.P. MORGAN)\n		\n		\n			CIERA BANK\n		\n		\n			CITY OF ALEDO\n		\n		\n			CITY OF HUDSON OAKS\n		\n		\n			CITY OF WILLOW PARK\n		\n		\n			CLARK REAL ESTATE GROUP\n		\n		\n			CLARK REAL ESTATE GROUP - LISA CATLIN\n		\n		\n			DELTA SOUTH WEST FUNDING\n		\n		\n			DT ROOFING\n		\n		\n			EDWARD JONES - FINANCIAL ADVISOR:  DONNA ALBERTS\, CFP \, ChFC \, CEPA \n		\n		\n			FIRST BANK TEXAS - WILLOW PARK\n		\n		\n			FIRST FINANCIAL BANK - ALEDO\n		\n		\n			FORT CONSTRUCTION\, LP\n		\n		\n			GABBY'S CLEANING SERVICES\, LLC\n		\n		\n			GILCHRIST AUTOMOTIVE\n		\n		\n			GILCHRIST INSURANCE GROUP\n		\n		\n			GOOD LIFE ASSET STRATEGIES\, LLC\n		\n		\n			GRANBURY EXECUTIVE TRANSPORT\n		\n		\n			H-E-B\n		\n		\n			HARBCO REALTY\n		\n		\n			HISTORYMAKER HOMES\n		\n		\n			HOME SWEET HOMEHEALTH\, LLC\n		\n		\n			HOME ZONE FURNITURE\n		\n		\n			HOMESMILES FORT WORTH\n		\n		\n			INSTITUTE FOR HORMONAL BALANCE\n		\n		\n			JANIS MORRIS\, REALTOR \n		\n		\n			JRJ CONSTRUCTION\, INC.\n		\n		\n			LEARNING FRIENDS ALEDO\n		\n		\n			LYNCH LEGACY REALTY GROUP by eXp\n		\n		\n			MADER-BAGLEY STATE FARM INSURANCE\n		\n		\n			MAGNOLIA FENCE & PATIO\n		\n		\n			MAJOR PERK\n		\n		\n			MK HOMES\n		\n		\n			MOORE MONUMENTS\n		\n		\n			MYSER ORTHODONTICS\n		\n		\n			NATION'S PURE WATER SYSTEMS\n		\n		\n			NBT FINANCIAL BANK\n		\n		\n			ONCOR ELECTRIC DELIVERY\n		\n		\n			ONEROCK CAR WASH\n		\n		\n			PARKER COUNTY ECONOMIC DEVELOPMENT COUNCIL \n		\n		\n			PARKER COUNTY HOSPITAL DISTRICT\n		\n		\n			PLAINSCAPITAL BANK\n		\n		\n			PRIMROSE SCHOOL AT WALSH\n		\n		\n			PROFRAC HOLDING CORP.\n		\n		\n			PURE FUNDING MORTGAGE\n		\n		\n			REALTY WORLD PROFESSIONALS - PAM SNOWDEN\n		\n		\n			REUNION TITLE OF TEXAS\, INC.\n		\n		\n			ROGER WILLIAMS CDJR and FIAT\n		\n		\n			SHELBY RHODES PHOTOGRAPHY\n		\n		\n			SHOTTENKIRK TOYOTA WEATHERFORD\n		\n		\n			SOUTHERN STAR AUTO\, LLC dba ONSITE AUTO MAINTENANCE\n		\n		\n			SOUTHWEST FLUID PRODUCTS\, INC.\n		\n		\n			SPEED FAB-CRETE CORP.\n		\n		\n			SYNTRIO\n		\n		\n			TEXASBANK\n		\n		\n			THE ROCK MULTIPLEX\n		\n		\n			TRANSWORLD BUSINESS ADVISORS OF SOUTH & WEST TX\n		\n		\n			TWFG INSURANCE SERVICES - CHRISTI JAMES\n		\n		\n			URBAN AIR HUDSON OAKS\n		\n		\n			VINMARK ROOFING AND CONSTRUCTION\, LLC\n		\n		\n			WALSH\n		\n		\n			WASTE CONNECTIONS - WEATHERFORD\n		\n		\n			WEATHERFORD COLLEGE\n		\n		\n			WILKS DEVELOPMENT\, LLC\n		\n		\n			WILLIAMS TREW REAL ESTATE
X-ALT-DESC;FMTTYPE=text/html:<span style="color:black\;"><span style="font-family:times new roman\,serif\;">The Parker County Chamber of Commerce is excited to begin advertising sales for our <strong>Annual Relocation &amp\; Business Guide</strong>&mdash\;one of our most widely used and long-lasting publications.</span></span><br />\n<span style="color:black\;"><span style="font-family:times new roman\,serif\;">This guide is a trusted resource for:</span></span><br />\n<span style="color:black\;"><span style="font-family:symbol\;"><span style="font-size:10.0pt\;">&middot\;</span></span></span>&nbsp\;&nbsp\;&nbsp\;&nbsp\;&nbsp\;&nbsp\;&nbsp\;&nbsp\; <span style="color:black\;"><span style="font-family:times new roman\,serif\;">New residents relocating to Parker County</span></span><br />\n<span style="color:black\;"><span style="font-family:symbol\;"><span style="font-size:10.0pt\;">&middot\;</span></span></span>&nbsp\;&nbsp\;&nbsp\;&nbsp\;&nbsp\;&nbsp\;&nbsp\;&nbsp\; <span style="color:black\;"><span style="font-family:times new roman\,serif\;">Business prospects exploring our community</span></span><br />\n<span style="color:black\;"><span style="font-family:symbol\;"><span style="font-size:10.0pt\;">&middot\;</span></span></span>&nbsp\;&nbsp\;&nbsp\;&nbsp\;&nbsp\;&nbsp\;&nbsp\;&nbsp\; <span style="color:black\;"><span style="font-family:times new roman\,serif\;">Local leaders\, employers\, and visitors</span></span><br />\n<span style="color:black\;"><span style="font-family:times new roman\,serif\;">Distributed both <strong>in print and digitally</strong>\, the guide highlights the businesses\, services\, and organizations that make Parker County thrive. Advertising in the guide is a powerful way to increase your visibility\, strengthen brand recognition\, and position your business in front of a highly targeted audience throughout the year.</span></span><br />\n<span style="color:black\;"><span style="font-family:times new roman\,serif\;">We offer a variety of ad sizes and options to fit every budget\, giving your business year-round exposure in a publication that people keep and reference.</span></span><br />\n<span style="color:black\;"><span style="font-family:times new roman\,serif\;">Space is limited\, and ads are reserved on a first-come\, first-served basis. We encourage you to secure your spot early and take advantage of this opportunity to showcase your business.</span></span><br />\n<span style="color:black\;"><span style="font-family:times new roman\,serif\;">To reserve your ad\, please contact Lisa at <strong>817-441-7844 x 3</strong></span>.</span><br />\n<span style="color:black\;"><span style="font-family:times new roman\,serif\;">Thank you for supporting the Chamber and for being an essential part of Parker County&rsquo\;s business community.</span></span><br />\n<em font-size:="" style="color: rgb(51\, 51\, 51)\; font-family: sans-serif\, Arial\, Verdana\, " trebuchet=""><strong><span style="color: red\;"><span style="font-family: arial\, sans-serif\;"><span style="font-size: 10pt\;">If you are interested in placing an ad&nbsp\;</span></span></span></strong></em><em font-size:="" style="color: rgb(51\, 51\, 51)\; font-family: sans-serif\, Arial\, Verdana\, " trebuchet=""><strong><span style="font-family: arial\, sans-serif\;"><span style="font-size: 10pt\;"><a href="https://chambermaster.blob.core.windows.net/userfiles/UserFiles/chambers/2477/File/AdSpaceApplication2026.png" style="color: rgb(7\, 130\, 193)\;"><span style="color: mediumblue\;"><span style="font-size: 12pt\;">CLICK HERE</span></span></a></span></span></strong></em><br />\n<br />\nCurrent Advertisers\n<table border="0" cellpadding="0" cellspacing="0" style="border-collapse:collapse\;width:484px\;" width="484">\n	<colgroup>\n		<col style="width:484px\;" />\n	</colgroup>\n	<tbody>\n		<tr height="20" style="height:20px\;">\n			<td height="20" style="height:20px\;width:484px\;">3C WEALTH MANAGEMENT\, LEON A. HENRY</td>\n		</tr>\n		<tr height="20" style="height:20px\;">\n			<td height="20" style="height:20px\;">ACDC PRINTING BANNERS\, SIGNS &amp\; DESIGNS</td>\n		</tr>\n		<tr height="20" style="height:20px\;">\n			<td height="20" style="height:20px\;">ALEDO CHILDREN&#39\;S ADVOCATS</td>\n		</tr>\n		<tr height="20" style="height:20px\;">\n			<td height="20" style="height:20px\;">ALEDO CHURCH OF CHRIST</td>\n		</tr>\n		<tr height="20" style="height:20px\;">\n			<td height="20" style="height:20px\;">ALPHA CARE WELLNESS CENTER</td>\n		</tr>\n		<tr height="20" style="height:20px\;">\n			<td height="20" style="height:20px\;">ANDREW DECKER LAW\, PLLC</td>\n		</tr>\n		<tr height="20" style="height:20px\;">\n			<td height="20" style="height:20px\;">ANNETTA UNITED METHODIST CHURCH</td>\n		</tr>\n		<tr height="20" style="height:20px\;">\n			<td height="20" style="height:20px\;">ARROWPOINT LASER</td>\n		</tr>\n		<tr height="20" style="height:20px\;">\n			<td height="20" style="height:20px\;">BRAZOS WINDOW &amp\; DOOR\, LLC</td>\n		</tr>\n		<tr height="20" style="height:20px\;">\n			<td height="20" style="height:20px\;">BRETTCO ROOFING II\, LLC</td>\n		</tr>\n		<tr height="20" style="height:20px\;">\n			<td height="20" style="height:20px\;">CALIBER HOMES TX</td>\n		</tr>\n		<tr height="20" style="height:20px\;">\n			<td height="20" style="height:20px\;">CASSITY JONES BUILDING MATERIALS</td>\n		</tr>\n		<tr height="20" style="height:20px\;">\n			<td height="20" style="height:20px\;">CB AIR CONDITIONING AND HEATING</td>\n		</tr>\n		<tr height="20" style="height:20px\;">\n			<td height="20" style="height:20px\;">CHASE BANK (J.P. MORGAN)</td>\n		</tr>\n		<tr height="20" style="height:20px\;">\n			<td height="20" style="height:20px\;">CIERA BANK</td>\n		</tr>\n		<tr height="20" style="height:20px\;">\n			<td height="20" style="height:20px\;">CITY OF ALEDO</td>\n		</tr>\n		<tr height="20" style="height:20px\;">\n			<td height="20" style="height:20px\;">CITY OF HUDSON OAKS</td>\n		</tr>\n		<tr height="20" style="height:20px\;">\n			<td height="20" style="height:20px\;">CITY OF WILLOW PARK</td>\n		</tr>\n		<tr height="20" style="height:20px\;">\n			<td height="20" style="height:20px\;">CLARK REAL ESTATE GROUP</td>\n		</tr>\n		<tr height="20" style="height:20px\;">\n			<td height="20" style="height:20px\;">CLARK REAL ESTATE GROUP - LISA CATLIN</td>\n		</tr>\n		<tr height="20" style="height:20px\;">\n			<td height="20" style="height:20px\;">DELTA SOUTH WEST FUNDING</td>\n		</tr>\n		<tr height="20" style="height:20px\;">\n			<td height="20" style="height:20px\;">DT ROOFING</td>\n		</tr>\n		<tr height="20" style="height:20px\;">\n			<td height="20" style="height:20px\;">EDWARD JONES - FINANCIAL ADVISOR:&nbsp\; DONNA ALBERTS\, CFP&reg\;\, ChFC&reg\;\, CEPA&reg\;</td>\n		</tr>\n		<tr height="20" style="height:20px\;">\n			<td height="20" style="height:20px\;">FIRST BANK TEXAS - WILLOW PARK</td>\n		</tr>\n		<tr height="20" style="height:20px\;">\n			<td height="20" style="height:20px\;">FIRST FINANCIAL BANK - ALEDO</td>\n		</tr>\n		<tr height="20" style="height:20px\;">\n			<td height="20" style="height:20px\;">FORT CONSTRUCTION\, LP</td>\n		</tr>\n		<tr height="20" style="height:20px\;">\n			<td height="20" style="height:20px\;">GABBY&#39\;S CLEANING SERVICES\, LLC</td>\n		</tr>\n		<tr height="20" style="height:20px\;">\n			<td height="20" style="height:20px\;">GILCHRIST AUTOMOTIVE</td>\n		</tr>\n		<tr height="20" style="height:20px\;">\n			<td height="20" style="height:20px\;">GILCHRIST INSURANCE GROUP</td>\n		</tr>\n		<tr height="20" style="height:20px\;">\n			<td height="20" style="height:20px\;">GOOD LIFE ASSET STRATEGIES\, LLC</td>\n		</tr>\n		<tr height="20" style="height:20px\;">\n			<td height="20" style="height:20px\;">GRANBURY EXECUTIVE TRANSPORT</td>\n		</tr>\n		<tr height="20" style="height:20px\;">\n			<td height="20" style="height:20px\;">H-E-B</td>\n		</tr>\n		<tr height="20" style="height:20px\;">\n			<td height="20" style="height:20px\;">HARBCO REALTY</td>\n		</tr>\n		<tr height="20" style="height:20px\;">\n			<td height="20" style="height:20px\;">HISTORYMAKER HOMES</td>\n		</tr>\n		<tr height="20" style="height:20px\;">\n			<td height="20" style="height:20px\;">HOME SWEET HOMEHEALTH\, LLC</td>\n		</tr>\n		<tr height="20" style="height:20px\;">\n			<td height="20" style="height:20px\;">HOME ZONE FURNITURE</td>\n		</tr>\n		<tr height="20" style="height:20px\;">\n			<td height="20" style="height:20px\;">HOMESMILES FORT WORTH</td>\n		</tr>\n		<tr height="20" style="height:20px\;">\n			<td height="20" style="height:20px\;">INSTITUTE FOR HORMONAL BALANCE</td>\n		</tr>\n		<tr height="20" style="height:20px\;">\n			<td height="20" style="height:20px\;">JANIS MORRIS\, REALTOR&reg\;</td>\n		</tr>\n		<tr height="20" style="height:20px\;">\n			<td height="20" style="height:20px\;">JRJ CONSTRUCTION\, INC.</td>\n		</tr>\n		<tr height="20" style="height:20px\;">\n			<td height="20" style="height:20px\;">LEARNING FRIENDS ALEDO</td>\n		</tr>\n		<tr height="20" style="height:20px\;">\n			<td height="20" style="height:20px\;">LYNCH LEGACY REALTY GROUP by eXp</td>\n		</tr>\n		<tr height="20" style="height:20px\;">\n			<td height="20" style="height:20px\;">MADER-BAGLEY STATE FARM INSURANCE</td>\n		</tr>\n		<tr height="20" style="height:20px\;">\n			<td height="20" style="height:20px\;">MAGNOLIA FENCE &amp\; PATIO</td>\n		</tr>\n		<tr height="20" style="height:20px\;">\n			<td height="20" style="height:20px\;">MAJOR PERK</td>\n		</tr>\n		<tr height="20" style="height:20px\;">\n			<td height="20" style="height:20px\;">MK HOMES</td>\n		</tr>\n		<tr height="20" style="height:20px\;">\n			<td height="20" style="height:20px\;">MOORE MONUMENTS</td>\n		</tr>\n		<tr height="20" style="height:20px\;">\n			<td height="20" style="height:20px\;">MYSER ORTHODONTICS</td>\n		</tr>\n		<tr height="20" style="height:20px\;">\n			<td height="20" style="height:20px\;">NATION&#39\;S PURE WATER SYSTEMS</td>\n		</tr>\n		<tr height="20" style="height:20px\;">\n			<td height="20" style="height:20px\;">NBT FINANCIAL BANK</td>\n		</tr>\n		<tr height="20" style="height:20px\;">\n			<td height="20" style="height:20px\;">ONCOR ELECTRIC DELIVERY</td>\n		</tr>\n		<tr height="20" style="height:20px\;">\n			<td height="20" style="height:20px\;">ONEROCK CAR WASH</td>\n		</tr>\n		<tr height="20" style="height:20px\;">\n			<td height="20" style="height:20px\;">PARKER COUNTY ECONOMIC DEVELOPMENT COUNCIL&nbsp\;</td>\n		</tr>\n		<tr height="20" style="height:20px\;">\n			<td height="20" style="height:20px\;">PARKER COUNTY HOSPITAL DISTRICT</td>\n		</tr>\n		<tr height="20" style="height:20px\;">\n			<td height="20" style="height:20px\;">PLAINSCAPITAL BANK</td>\n		</tr>\n		<tr height="20" style="height:20px\;">\n			<td height="20" style="height:20px\;">PRIMROSE SCHOOL AT WALSH</td>\n		</tr>\n		<tr height="20" style="height:20px\;">\n			<td height="20" style="height:20px\;">PROFRAC HOLDING CORP.</td>\n		</tr>\n		<tr height="20" style="height:20px\;">\n			<td height="20" style="height:20px\;">PURE FUNDING MORTGAGE</td>\n		</tr>\n		<tr height="20" style="height:20px\;">\n			<td height="20" style="height:20px\;">REALTY WORLD PROFESSIONALS - PAM SNOWDEN</td>\n		</tr>\n		<tr height="20" style="height:20px\;">\n			<td height="20" style="height:20px\;">REUNION TITLE OF TEXAS\, INC.</td>\n		</tr>\n		<tr height="20" style="height:20px\;">\n			<td height="20" style="height:20px\;">ROGER WILLIAMS CDJR and FIAT</td>\n		</tr>\n		<tr height="20" style="height:20px\;">\n			<td height="20" style="height:20px\;">SHELBY RHODES PHOTOGRAPHY</td>\n		</tr>\n		<tr height="20" style="height:20px\;">\n			<td height="20" style="height:20px\;">SHOTTENKIRK TOYOTA WEATHERFORD</td>\n		</tr>\n		<tr height="20" style="height:20px\;">\n			<td height="20" style="height:20px\;">SOUTHERN STAR AUTO\, LLC dba ONSITE AUTO MAINTENANCE</td>\n		</tr>\n		<tr height="20" style="height:20px\;">\n			<td height="20" style="height:20px\;">SOUTHWEST FLUID PRODUCTS\, INC.</td>\n		</tr>\n		<tr height="20" style="height:20px\;">\n			<td height="20" style="height:20px\;">SPEED FAB-CRETE CORP.</td>\n		</tr>\n		<tr height="20" style="height:20px\;">\n			<td height="20" style="height:20px\;">SYNTRIO</td>\n		</tr>\n		<tr height="20" style="height:20px\;">\n			<td height="20" style="height:20px\;">TEXASBANK</td>\n		</tr>\n		<tr height="20" style="height:20px\;">\n			<td height="20" style="height:20px\;">THE ROCK MULTIPLEX</td>\n		</tr>\n		<tr height="20" style="height:20px\;">\n			<td height="20" style="height:20px\;">TRANSWORLD BUSINESS ADVISORS OF SOUTH &amp\; WEST TX</td>\n		</tr>\n		<tr height="20" style="height:20px\;">\n			<td height="20" style="height:20px\;">TWFG INSURANCE SERVICES - CHRISTI JAMES</td>\n		</tr>\n		<tr height="20" style="height:20px\;">\n			<td height="20" style="height:20px\;">URBAN AIR HUDSON OAKS</td>\n		</tr>\n		<tr height="20" style="height:20px\;">\n			<td height="20" style="height:20px\;">VINMARK ROOFING AND CONSTRUCTION\, LLC</td>\n		</tr>\n		<tr height="20" style="height:20px\;">\n			<td height="20" style="height:20px\;">WALSH</td>\n		</tr>\n		<tr height="20" style="height:20px\;">\n			<td height="20" style="height:20px\;">WASTE CONNECTIONS - WEATHERFORD</td>\n		</tr>\n		<tr height="20" style="height:20px\;">\n			<td height="20" style="height:20px\;">WEATHERFORD COLLEGE</td>\n		</tr>\n		<tr height="20" style="height:20px\;">\n			<td height="20" style="height:20px\;">WILKS DEVELOPMENT\, LLC</td>\n		</tr>\n		<tr height="20" style="height:20px\;">\n			<td height="20" style="height:20px\;">WILLIAMS TREW REAL ESTATE</td>\n		</tr>\n	</tbody>\n</table>\n
LOCATION:
UID:e.2477.21719
SEQUENCE:3
DTSTAMP:20260421T032543Z
URL:http://business.parkercountychamber.com/events/details/2026-2027-relocation-area-guide-ad-opportunity-deadline-march-31-2026-21719
END:VEVENT

END:VCALENDAR
