BEGIN:VCALENDAR
VERSION:2.0
PRODID:-//ChamberMaster//Event Calendar 2.0//EN
METHOD:PUBLISH
X-PUBLISHED-TTL:P3D
REFRESH-INTERVAL:P3D
CALSCALE:GREGORIAN
BEGIN:VEVENT
DTSTART:20250115T173000Z
DTEND:20250115T190000Z
X-MICROSOFT-CDO-ALLDAYEVENT:FALSE
SUMMARY:2025 Amelia Earhart Luncheon hosted by Zonta Club of Parker County
DESCRIPTION:Join us for networking\, inspiration\, and empowerment as we honor the trailblazing spirit of Amelia Earhart and celebrate the achievements of women in aviation.\n\n\n\nOur guest speaker will be U.S. Air Force Reserve Col. Kathleen Cosand.\n\n\n\nReserve your spot today and be part of this extraordinary event that highlights the contributions and potential of women in this dynamic field.\n\n\n\nProceeds from the event will support Zonta's scholarship program and service projects in Parker County.\n\n\n\nTable Sponsorships are $400 for 8 seats.\n\nIndividual tickets are $40.\n\n\n\nTo register\, visit www.zontaparkercounty.org and click the events tab.
X-ALT-DESC;FMTTYPE=text/html:Join us for networking\, inspiration\, and empowerment as we honor the trailblazing spirit of Amelia Earhart and celebrate the achievements of women in aviation.<br />\n<br />\nOur guest speaker will be U.S. Air Force Reserve Col. Kathleen Cosand.<br />\n<br />\nReserve your spot today and be part of this extraordinary event that highlights the contributions and potential of women in this dynamic field.<br />\n<br />\nProceeds from the event will support Zonta&#39\;s scholarship program and service projects in Parker County.<br />\n<br />\nTable Sponsorships are $400 for 8 seats.<br />\nIndividual tickets are $40.<br />\n<br />\nTo register\, visit www.zontaparkercounty.org and click the events tab.
LOCATION:Weatherford College Third Floor Dining Room in the Emerging Technologies Building
UID:e.2477.20118
SEQUENCE:3
DTSTAMP:20260423T133917Z
URL:http://business.parkercountychamber.com/events/details/2025-amelia-earhart-luncheon-hosted-by-zonta-club-of-parker-county-20118
END:VEVENT

END:VCALENDAR
