BEGIN:VCALENDAR
VERSION:2.0
PRODID:-//ChamberMaster//Event Calendar 2.0//EN
METHOD:PUBLISH
X-PUBLISHED-TTL:P3D
REFRESH-INTERVAL:P3D
CALSCALE:GREGORIAN
BEGIN:VEVENT
DTSTART:20240917T164500Z
DTEND:20240917T183000Z
X-MICROSOFT-CDO-ALLDAYEVENT:FALSE
SUMMARY:2024 Presidential Luncheon
DESCRIPTION:Program will begin at 11:45 a.m. in the theatre. Complimentary luncheon will follow in the Texas Hall.
X-ALT-DESC;FMTTYPE=text/html:<span style="color:rgb(49\, 49\, 49)\; font-family:arial\,helvetica\,verdana\,tahoma\,sans-serif\; font-size:14px">Program will begin at 11:45 a.m. in the theatre. Complimentary luncheon will follow in the Texas Hall.</span>
LOCATION:Weatherford College Alkek Fine Arts Theatre 239 College Park Dr\, Weatherford\, TX 76086
UID:e.2477.19738
SEQUENCE:3
DTSTAMP:20260423T224522Z
URL:http://business.parkercountychamber.com/events/details/2024-presidential-luncheon-19738
END:VEVENT

END:VCALENDAR
