BEGIN:VCALENDAR
VERSION:2.0
PRODID:-//ChamberMaster//Event Calendar 2.0//EN
METHOD:PUBLISH
X-PUBLISHED-TTL:P3D
REFRESH-INTERVAL:P3D
CALSCALE:GREGORIAN
BEGIN:VEVENT
DTSTART:20211204T230000Z
DTEND:20211205T030000Z
X-MICROSOFT-CDO-ALLDAYEVENT:FALSE
SUMMARY:CHRISTMAS TYME IN ALEDO
DESCRIPTION:Join the City of Aledo for its 21st Annual "Christmas Tyme in Aledo" on Saturday\, Dec. 4\, 2021!\n\nThe entire downtown event begins at 5:00 p.m. Lot of FREE FAMILY FUN and entertainment will continue until 9:00 p.m.! Check out our Facebook page (www.facebook.com/cityofaledo) for an Event Map of all of the fun & visit our open businesses for treats and specials!\n\n\nVisit with Firehouse Santa! \n\nToys for Tots drop-off\n\nFood for purchase\n\nVendor items for sale
X-ALT-DESC;FMTTYPE=text/html:<p><span style="color:#FF0000"><span style="font-family:comic sans ms">Join the <strong>City of Aledo</strong> for its 21st<em>&nbsp\;Annual</em> &quot\;</span></span><span style="color:#006400"><span style="font-family:comic sans ms"><strong>Christmas Tyme in Aledo</strong></span></span><span style="color:#FF0000"><span style="font-family:comic sans ms">&quot\; on&nbsp\;<strong>Saturday\, Dec. 4\, 2021</strong>!</span></span></p>\n\n<p><span style="color:#FF0000"><span style="font-family:comic sans ms">The <strong>entire downtown event</strong> begins at </span></span><span style="color:#006400"><span style="font-family:comic sans ms"><strong>5:00 p.m.</strong></span></span><span style="color:#FF0000"><span style="font-family:comic sans ms"><strong> </strong>Lot of </span></span><span style="color:#006400"><span style="font-family:comic sans ms"><strong>FREE FAMILY FUN</strong></span></span><span style="color:#FF0000"><span style="font-family:comic sans ms"> and entertainment will continue </span></span><span style="color:#006400"><span style="font-family:comic sans ms"><strong>until 9:00 p.m.</strong></span></span><span style="color:#FF0000"><span style="font-family:comic sans ms">! Check out our Facebook page (www.facebook.com/cityofaledo) for an Event Map of all of the fun &amp\; visit our open businesses for treats and specials!</span></span></p>\n\n<div>\n<p><span style="color:#FF0000"><span style="font-family:comic sans ms">Visit with Firehouse Santa!&nbsp\;</span></span><br />\n<span style="color:rgb(255\, 0\, 0)\; font-family:comic sans ms">Toys for Tots drop-off</span><br />\n<span style="color:rgb(255\, 0\, 0)\; font-family:comic sans ms">Food for purchase<br />\nVendor items for sale</span></p>\n</div>\n
LOCATION:Downtown Aledo\, TX 76008
UID:e.2477.12171
SEQUENCE:3
DTSTAMP:20260425T211711Z
URL:http://business.parkercountychamber.com/events/details/2018-christmas-tyme-in-aledo-12171
END:VEVENT

END:VCALENDAR
