BEGIN:VCALENDAR
VERSION:2.0
PRODID:-//ChamberMaster//Event Calendar 2.0//EN
METHOD:PUBLISH
X-PUBLISHED-TTL:P3D
REFRESH-INTERVAL:P3D
CALSCALE:GREGORIAN
BEGIN:VEVENT
DTSTART:20211017T210000Z
DTEND:20211018T000000Z
X-MICROSOFT-CDO-ALLDAYEVENT:FALSE
SUMMARY:1st Annual Chili Cook-Off Benefitting Flourishing Tree of Life
DESCRIPTION:This is a fundraiser for Flourishing Tree of Life\, a 501 (c)3 non-profit family & pregnancy resource center\, which provides resources for families.  \n\n\n\nChili chefs will need to provide at least 5 lbs. of chili\, the recipe\, and complete the registration form: Chili Cook-Off Registration by Oct. 15th.
X-ALT-DESC;FMTTYPE=text/html:<span style="font-family:arial\,sans-serif"><span style="font-size:12.0pt">This is a fundraiser for Flourishing Tree of Life\, a 501 (c)3 non-profit family &amp\; pregnancy resource center\, which provides resources for families.&nbsp\;&nbsp\;<br />\n<br />\nChili chefs will need to provide at least 5 lbs. of chili\, the recipe\, and complete the registration form:&nbsp\;<a href="https://docs.google.com/forms/d/11FLNQ8NA2NaT1lHpcYmVsNIeh1Y627eGtBADkt37kDc/edit?usp=sharing">Chili Cook-Off Registration</a>&nbsp\;by Oct. 15th.</span></span><br />\n&nbsp\;
LOCATION:Crossroads 701 Bear Cat Road Aledo\, TX 76008
UID:e.2477.15591
SEQUENCE:3
DTSTAMP:20260426T000921Z
URL:http://business.parkercountychamber.com/events/details/1st-annual-chili-cook-off-benefitting-flourishing-tree-of-life-15591
END:VEVENT

END:VCALENDAR
