BEGIN:VCALENDAR
VERSION:2.0
PRODID:-//ChamberMaster//Event Calendar 2.0//EN
METHOD:PUBLISH
X-PUBLISHED-TTL:P3D
REFRESH-INTERVAL:P3D
CALSCALE:GREGORIAN
BEGIN:VEVENT
DTSTART:20231221T130000Z
DTEND:20231222T010000Z
X-MICROSOFT-CDO-ALLDAYEVENT:FALSE
SUMMARY:12 Hours of Giving Blood Drive
DESCRIPTION:Carter Blood Care and the Parker County Hospital District are hosting a 12 hours of Christmas Blood Drive on December 21st from 7am to 7pm. \n\n \n\n\n\nLocated at :750 East Anderson Street Weatherford\, TX 76086 \n\n\n\nTis' the season of giving! So why not give blood!?\n\nThe blood and plasma donated helps goes to our EMS to provide life saving transfusions out in the field and during transport to the hospital. Having access to ready to use blood and plasma can mean the difference if someone makes it home to their families or not. \n\n\n\nMark your calendars\, you can create and appointment to donate and every donation comes with a FREE GIFT! \n\nWalk ins are welcome or you can sign up below!\n\nSign up here\; https://www.greatpartners.org/donor/schedules/drive_schedule/148342
X-ALT-DESC;FMTTYPE=text/html:<p><strong>Carter Blood Care and the Parker County Hospital District are hosting a 12 hours of Christmas Blood Drive on December 21st from 7am to 7pm.&nbsp\;</strong><br />\n&nbsp\;</p>\n\n<div>\n<div>\n<div><strong><span style="color:rgb(22.550000%\, 30.750000%\, 34.440000%)\; font-family:helveticaneueltstd\; font-size:15.000000pt">Located at :750 East Anderson Street Weatherford\, TX 76086 </span></strong></div>\n</div>\n</div>\n\n<p>Tis&#39\; the season of giving! So why not give blood!?<br />\nThe blood and plasma donated helps goes to our EMS to provide life saving transfusions out in the field and during transport to the hospital. Having access to ready to use blood and plasma can mean the difference if someone makes it home to their families or not.&nbsp\;<br />\n<br />\n<strong>Mark your calendars\, you can create and appointment to donate and every donation comes with a FREE GIFT!&nbsp\;<br />\nWalk ins are welcome or you can sign up below!<br />\nSign up here\;&nbsp\;<a href="https://www.greatpartners.org/donor/schedules/drive_schedule/148342" style="color: rgb(17\, 85\, 204)\; font-family: Arial\, Helvetica\, sans-serif\; font-size: small\;" target="_blank">https://www.greatpartners.org/donor/schedules/drive_schedule/148342</a></strong><br />\n&nbsp\;</p>\n
LOCATION:Inside the Training Room 750 East Anderson Street Weatherford\, TX 76086
UID:e.2477.19188
SEQUENCE:3
DTSTAMP:20260424T112458Z
URL:http://business.parkercountychamber.com/events/details/12-hours-of-giving-blood-drive-19188
END:VEVENT

END:VCALENDAR
